BEGIN:VCALENDAR
VERSION:2.0
PRODID:-//Kent Kirby - ECPv6.15.17.1//NONSGML v1.0//EN
CALSCALE:GREGORIAN
METHOD:PUBLISH
X-ORIGINAL-URL:https://kentkirby.com
X-WR-CALDESC:Events for Kent Kirby
REFRESH-INTERVAL;VALUE=DURATION:PT1H
X-Robots-Tag:noindex
X-PUBLISHED-TTL:PT1H
BEGIN:VTIMEZONE
TZID:America/New_York
BEGIN:DAYLIGHT
TZOFFSETFROM:-0500
TZOFFSETTO:-0400
TZNAME:EDT
DTSTART:20240310T070000
END:DAYLIGHT
BEGIN:STANDARD
TZOFFSETFROM:-0400
TZOFFSETTO:-0500
TZNAME:EST
DTSTART:20241103T060000
END:STANDARD
BEGIN:DAYLIGHT
TZOFFSETFROM:-0500
TZOFFSETTO:-0400
TZNAME:EDT
DTSTART:20250309T070000
END:DAYLIGHT
BEGIN:STANDARD
TZOFFSETFROM:-0400
TZOFFSETTO:-0500
TZNAME:EST
DTSTART:20251102T060000
END:STANDARD
BEGIN:DAYLIGHT
TZOFFSETFROM:-0500
TZOFFSETTO:-0400
TZNAME:EDT
DTSTART:20260308T070000
END:DAYLIGHT
BEGIN:STANDARD
TZOFFSETFROM:-0400
TZOFFSETTO:-0500
TZNAME:EST
DTSTART:20261101T060000
END:STANDARD
BEGIN:DAYLIGHT
TZOFFSETFROM:-0500
TZOFFSETTO:-0400
TZNAME:EDT
DTSTART:20270314T070000
END:DAYLIGHT
BEGIN:STANDARD
TZOFFSETFROM:-0400
TZOFFSETTO:-0500
TZNAME:EST
DTSTART:20271107T060000
END:STANDARD
END:VTIMEZONE
BEGIN:VTIMEZONE
TZID:UTC
BEGIN:STANDARD
TZOFFSETFROM:+0000
TZOFFSETTO:+0000
TZNAME:UTC
DTSTART:20240101T000000
END:STANDARD
END:VTIMEZONE
BEGIN:VEVENT
DTSTART;TZID=America/New_York:20260418T190000
DTEND;TZID=America/New_York:20260418T220000
DTSTAMP:20260423T113722
CREATED:20260217T223008Z
LAST-MODIFIED:20260217T223008Z
UID:475-1776538800-1776549600@kentkirby.com
SUMMARY:Hammock Beach Resort - Ocean Lawn
DESCRIPTION:
URL:https://kentkirby.com/event/hammock-beach-resort-ocean-lawn/
LOCATION:Hammock Beach Resort\, 200 Ocean Crest Dr.\, Palm Coast\, FL\, 32137\, United States
ATTACH;FMTTYPE=image/jpeg:https://kentkirby.com/wp-content/uploads/2025/05/break_evn_final.jpg
END:VEVENT
BEGIN:VEVENT
DTSTART;TZID=America/New_York:20260417T180000
DTEND;TZID=America/New_York:20260417T220000
DTSTAMP:20260423T113722
CREATED:20260313T205315Z
LAST-MODIFIED:20260313T205315Z
UID:487-1776448800-1776463200@kentkirby.com
SUMMARY:Mavi Waterfront Grill
DESCRIPTION:
URL:https://kentkirby.com/event/mavi-waterfront-grill-4/
LOCATION:Mavi Waterfront Grill\, 2309 Beach Boulevard\, Jacksonville Beach\, Florida\, 32250
ATTACH;FMTTYPE=image/jpeg:https://kentkirby.com/wp-content/uploads/2025/05/break_evn_final.jpg
END:VEVENT
BEGIN:VEVENT
DTSTART;TZID=America/New_York:20260409T150000
DTEND;TZID=America/New_York:20260409T160000
DTSTAMP:20260423T113722
CREATED:20260313T205132Z
LAST-MODIFIED:20260313T205132Z
UID:485-1775746800-1775750400@kentkirby.com
SUMMARY:Harbor Chase - Mandarin
DESCRIPTION:
URL:https://kentkirby.com/event/harbor-chase-mandarin/
LOCATION:Harbor Chase – Mandarin\, 12350 San Jose Blvd.\, Jacksonville\, FL\, 32223\, United States
ATTACH;FMTTYPE=image/jpeg:https://kentkirby.com/wp-content/uploads/2025/05/logo-2025-03-scaled.jpg
END:VEVENT
BEGIN:VEVENT
DTSTART;TZID=America/New_York:20260326T180000
DTEND;TZID=America/New_York:20260326T210000
DTSTAMP:20260423T113722
CREATED:20260313T202928Z
LAST-MODIFIED:20260313T202928Z
UID:479-1774548000-1774558800@kentkirby.com
SUMMARY:V Pizza - Mandarin
DESCRIPTION:
URL:https://kentkirby.com/event/v-pizza-mandarin/
LOCATION:V Pizza Mandarin\, 12601 San Jose Blvd.\, Jacksonville\, FL\, 32223\, United States
ATTACH;FMTTYPE=image/jpeg:https://kentkirby.com/wp-content/uploads/2025/05/logo-2025-03-scaled.jpg
END:VEVENT
BEGIN:VEVENT
DTSTART;TZID=America/New_York:20260321T190000
DTEND;TZID=America/New_York:20260321T220000
DTSTAMP:20260423T113722
CREATED:20260128T202146Z
LAST-MODIFIED:20260217T223134Z
UID:471-1774119600-1774130400@kentkirby.com
SUMMARY:Hammock Beach Resort-Ocean Lawn
DESCRIPTION:
URL:https://kentkirby.com/event/hammock-beach-resort-ocean-event-lawn/
LOCATION:Hammock Beach Resort\, 200 Ocean Crest Dr.\, Palm Coast\, FL\, 32137\, United States
ATTACH;FMTTYPE=image/jpeg:https://kentkirby.com/wp-content/uploads/2025/05/break_evn_final.jpg
END:VEVENT
BEGIN:VEVENT
DTSTART;TZID=America/New_York:20260313T200000
DTEND;TZID=America/New_York:20260313T230000
DTSTAMP:20260423T113722
CREATED:20260128T201401Z
LAST-MODIFIED:20260128T202511Z
UID:468-1773432000-1773442800@kentkirby.com
SUMMARY:Hammock Beach Resort-Lobby
DESCRIPTION:
URL:https://kentkirby.com/event/hammock-beach-resort-lobby-5/
LOCATION:Hammock Beach Resort\, 200 Ocean Crest Dr.\, Palm Coast\, FL\, 32137\, United States
ATTACH;FMTTYPE=image/jpeg:https://kentkirby.com/wp-content/uploads/2025/05/logo-2025-03-scaled.jpg
END:VEVENT
BEGIN:VEVENT
DTSTART;TZID=America/New_York:20260220T180000
DTEND;TZID=America/New_York:20260220T220000
DTSTAMP:20260423T113722
CREATED:20251029T003103Z
LAST-MODIFIED:20251130T215343Z
UID:447-1771610400-1771624800@kentkirby.com
SUMMARY:Mavi Waterfront Grill
DESCRIPTION:
URL:https://kentkirby.com/event/447/
LOCATION:Mavi Waterfront Grill\, 2309 Beach Boulevard\, Jacksonville Beach\, Florida\, 32250
ATTACH;FMTTYPE=image/jpeg:https://kentkirby.com/wp-content/uploads/2025/05/break_evn_final.jpg
END:VEVENT
BEGIN:VEVENT
DTSTART;TZID=America/New_York:20260130T200000
DTEND;TZID=America/New_York:20260130T230000
DTSTAMP:20260423T113722
CREATED:20251214T184713Z
LAST-MODIFIED:20251214T184713Z
UID:458-1769803200-1769814000@kentkirby.com
SUMMARY:Hammock Beach Resort - Lobby
DESCRIPTION:
URL:https://kentkirby.com/event/hammock-beach-resort-lobby-4/
LOCATION:Hammock Beach Resort\, 200 Ocean Crest Dr.\, Palm Coast\, FL\, 32137\, United States
ATTACH;FMTTYPE=image/jpeg:https://kentkirby.com/wp-content/uploads/2025/05/logo-2025-03-scaled.jpg
END:VEVENT
BEGIN:VEVENT
DTSTART;TZID=America/New_York:20260129T180000
DTEND;TZID=America/New_York:20260129T210000
DTSTAMP:20260423T113722
CREATED:20251231T025738Z
LAST-MODIFIED:20260128T023306Z
UID:460-1769709600-1769720400@kentkirby.com
SUMMARY:V Pizza - Fleming Island CANCELLED DUE TO WEATHER
DESCRIPTION:
URL:https://kentkirby.com/event/v-pizza-fleming-island/
LOCATION:V Pizza – Fleming Island\, 4477 US Highway 17\, Fleming Island\, FL\, 32003\, United States
ATTACH;FMTTYPE=image/jpeg:https://kentkirby.com/wp-content/uploads/2025/05/logo-2025-03-scaled.jpg
END:VEVENT
BEGIN:VEVENT
DTSTART;TZID=America/New_York:20260109T180000
DTEND;TZID=America/New_York:20260109T220000
DTSTAMP:20260423T113722
CREATED:20251029T002953Z
LAST-MODIFIED:20251130T215413Z
UID:446-1767981600-1767996000@kentkirby.com
SUMMARY:Mavi Waterfront Grill
DESCRIPTION:
URL:https://kentkirby.com/event/mavi-waterfront-grill-3/
LOCATION:Mavi Waterfront Grill\, 2309 Beach Boulevard\, Jacksonville Beach\, Florida\, 32250
ATTACH;FMTTYPE=image/jpeg:https://kentkirby.com/wp-content/uploads/2025/05/break_evn_final.jpg
END:VEVENT
BEGIN:VEVENT
DTSTART;TZID=America/New_York:20251227T180000
DTEND;TZID=America/New_York:20251227T220000
DTSTAMP:20260423T113722
CREATED:20251029T002808Z
LAST-MODIFIED:20251124T190521Z
UID:445-1766858400-1766872800@kentkirby.com
SUMMARY:Mavi Waterfront Grill
DESCRIPTION:
URL:https://kentkirby.com/event/mavi-waterfront-grill-2/
LOCATION:Mavi Waterfront Grill\, 2309 Beach Boulevard\, Jacksonville Beach\, Florida\, 32250
ATTACH;FMTTYPE=image/jpeg:https://kentkirby.com/wp-content/uploads/2025/05/break_evn_final.jpg
END:VEVENT
BEGIN:VEVENT
DTSTART;TZID=America/New_York:20251226T200000
DTEND;TZID=America/New_York:20251226T230000
DTSTAMP:20260423T113722
CREATED:20251124T191530Z
LAST-MODIFIED:20251130T215455Z
UID:450-1766779200-1766790000@kentkirby.com
SUMMARY:Hammock Beach Resort Lobby
DESCRIPTION:
URL:https://kentkirby.com/event/hammock-beach-resort-lobby-3/
LOCATION:Hammock Beach Resort\, 200 Ocean Crest Dr.\, Palm Coast\, FL\, 32137\, United States
ATTACH;FMTTYPE=image/jpeg:https://kentkirby.com/wp-content/uploads/2025/05/logo-2025-03-scaled.jpg
END:VEVENT
BEGIN:VEVENT
DTSTART;TZID=America/New_York:20251206T160000
DTEND;TZID=America/New_York:20251206T190000
DTSTAMP:20260423T113722
CREATED:20251020T011535Z
LAST-MODIFIED:20251130T215609Z
UID:428-1765036800-1765047600@kentkirby.com
SUMMARY:Private Event
DESCRIPTION:
URL:https://kentkirby.com/event/private-event/
LOCATION:Private
ATTACH;FMTTYPE=image/jpeg:https://kentkirby.com/wp-content/uploads/2025/05/logo-2025-03-scaled.jpg
END:VEVENT
BEGIN:VEVENT
DTSTART;TZID=America/New_York:20251129T170000
DTEND;TZID=America/New_York:20251129T200000
DTSTAMP:20260423T113722
CREATED:20251023T195309Z
LAST-MODIFIED:20251023T195743Z
UID:442-1764435600-1764446400@kentkirby.com
SUMMARY:Hurricane Grill & Wings - San Marco
DESCRIPTION:
URL:https://kentkirby.com/event/hurricane-grill-wings-san-marco-7/
LOCATION:Hurricane Grill & Wings – San Marco\, 1615 Hendricks Ave\, Jacksonville\, FL\, 32207\, United States
ATTACH;FMTTYPE=image/jpeg:https://kentkirby.com/wp-content/uploads/2025/05/logo-2025-03-scaled.jpg
END:VEVENT
BEGIN:VEVENT
DTSTART;TZID=America/New_York:20251128T200000
DTEND;TZID=America/New_York:20251128T230000
DTSTAMP:20260423T113722
CREATED:20251002T220500Z
LAST-MODIFIED:20251002T220500Z
UID:425-1764360000-1764370800@kentkirby.com
SUMMARY:Hammock Beach Resort Lobby
DESCRIPTION:
URL:https://kentkirby.com/event/hammock-beach-resort-lobby-2/
LOCATION:Hammock Beach Resort\, 200 Ocean Crest Dr.\, Palm Coast\, FL\, 32137\, United States
ATTACH;FMTTYPE=image/jpeg:https://kentkirby.com/wp-content/uploads/2025/05/logo-2025-03-scaled.jpg
END:VEVENT
BEGIN:VEVENT
DTSTART;TZID=America/New_York:20251031T200000
DTEND;TZID=America/New_York:20251031T230000
DTSTAMP:20260423T113722
CREATED:20250916T015810Z
LAST-MODIFIED:20250916T020145Z
UID:421-1761940800-1761951600@kentkirby.com
SUMMARY:Hammock Beach Resort - Lobby
DESCRIPTION:
URL:https://kentkirby.com/event/hammock-beach-resort-lobby/
LOCATION:Hammock Beach Resort\, 200 Ocean Crest Dr.\, Palm Coast\, FL\, 32137\, United States
ATTACH;FMTTYPE=image/jpeg:https://kentkirby.com/wp-content/uploads/2025/05/logo-2025-03-scaled.jpg
END:VEVENT
BEGIN:VEVENT
DTSTART;TZID=UTC:20251025T170000
DTEND;TZID=UTC:20251025T200000
DTSTAMP:20260423T113722
CREATED:20250821T011636Z
LAST-MODIFIED:20250821T011636Z
UID:414-1761411600-1761422400@kentkirby.com
SUMMARY:Hurricane Grill & Wings - San Marco
DESCRIPTION:
URL:https://kentkirby.com/event/hurricane-grill-wings-san-marco-6/
LOCATION:Hurricane Grill & Wings – San Marco\, 1615 Hendricks Ave\, Jacksonville\, FL\, 32207\, United States
ATTACH;FMTTYPE=image/jpeg:https://kentkirby.com/wp-content/uploads/2025/05/logo-2025-03-scaled.jpg
END:VEVENT
BEGIN:VEVENT
DTSTART;TZID=UTC:20251017T180000
DTEND;TZID=UTC:20251017T210000
DTSTAMP:20260423T113722
CREATED:20250821T011331Z
LAST-MODIFIED:20250821T011331Z
UID:411-1760724000-1760734800@kentkirby.com
SUMMARY:Edenbrooke at Hyland Trail-Private
DESCRIPTION:
URL:https://kentkirby.com/event/edenbrooke-at-hyland-trail-private/
LOCATION:Edenbrooke at Hyland Trail
ATTACH;FMTTYPE=image/jpeg:https://kentkirby.com/wp-content/uploads/2025/05/logo-2025-03-scaled.jpg
END:VEVENT
BEGIN:VEVENT
DTSTART;TZID=America/New_York:20251016T180000
DTEND;TZID=America/New_York:20251016T210000
DTSTAMP:20260423T113722
CREATED:20251009T001839Z
LAST-MODIFIED:20251009T001839Z
UID:426-1760637600-1760648400@kentkirby.com
SUMMARY:Back 40 Urban Fresh
DESCRIPTION:
URL:https://kentkirby.com/event/back-40-urban-fresh-2/
LOCATION:Back 40 Urban Fresh\, 450 State Rd 13 N\, St. Johns\, FL\, 32259\, United States
ATTACH;FMTTYPE=image/jpeg:https://kentkirby.com/wp-content/uploads/2025/05/logo-2025-03-scaled.jpg
END:VEVENT
BEGIN:VEVENT
DTSTART;TZID=UTC:20250920T170000
DTEND;TZID=UTC:20250920T200000
DTSTAMP:20260423T113722
CREATED:20250821T011533Z
LAST-MODIFIED:20250821T011533Z
UID:413-1758387600-1758398400@kentkirby.com
SUMMARY:Hurricane Grill & Wings - San Marco
DESCRIPTION:
URL:https://kentkirby.com/event/hurricane-grill-wings-san-marco-5/
LOCATION:Hurricane Grill & Wings – San Marco\, 1615 Hendricks Ave\, Jacksonville\, FL\, 32207\, United States
ATTACH;FMTTYPE=image/jpeg:https://kentkirby.com/wp-content/uploads/2025/05/logo-2025-03-scaled.jpg
END:VEVENT
BEGIN:VEVENT
DTSTART;TZID=America/New_York:20250913T170000
DTEND;TZID=America/New_York:20250913T200000
DTSTAMP:20260423T113722
CREATED:20250812T210239Z
LAST-MODIFIED:20250813T153921Z
UID:398-1757782800-1757793600@kentkirby.com
SUMMARY:Back 40 Urban Fresh
DESCRIPTION:
URL:https://kentkirby.com/event/back-40-urban-fresh/
LOCATION:Back 40 Urban Fresh\, 450 State Rd 13 N\, St. Johns\, FL\, 32259\, United States
ATTACH;FMTTYPE=image/jpeg:https://kentkirby.com/wp-content/uploads/2025/05/logo-2025-03-scaled.jpg
END:VEVENT
BEGIN:VEVENT
DTSTART;TZID=UTC:20250912T180000
DTEND;TZID=UTC:20250912T210000
DTSTAMP:20260423T113722
CREATED:20250821T011856Z
LAST-MODIFIED:20250821T011856Z
UID:415-1757700000-1757710800@kentkirby.com
SUMMARY:Everlake at Mandarin - Private
DESCRIPTION:
URL:https://kentkirby.com/event/everlake-at-mandarin-private/
LOCATION:Everlake at Mandarin\, FL\, United States
ATTACH;FMTTYPE=image/jpeg:https://kentkirby.com/wp-content/uploads/2025/05/logo-2025-03-scaled.jpg
END:VEVENT
BEGIN:VEVENT
DTSTART;TZID=America/New_York:20250830T170000
DTEND;TZID=America/New_York:20250830T200000
DTSTAMP:20260423T113722
CREATED:20250716T011746Z
LAST-MODIFIED:20250813T154146Z
UID:392-1756573200-1756584000@kentkirby.com
SUMMARY:Hurricane Grill & Wings - San Marco
DESCRIPTION:
URL:https://kentkirby.com/event/hurricane-grill-wings-san-marco-4/
LOCATION:Hurricane Grill & Wings – San Marco\, 1615 Hendricks Ave\, Jacksonville\, FL\, 32207\, United States
ATTACH;FMTTYPE=image/jpeg:https://kentkirby.com/wp-content/uploads/2025/05/logo-2025-03-scaled.jpg
END:VEVENT
BEGIN:VEVENT
DTSTART;TZID=America/New_York:20250829T180000
DTEND;TZID=America/New_York:20250829T210000
DTSTAMP:20260423T113722
CREATED:20250701T170457Z
LAST-MODIFIED:20250813T154115Z
UID:379-1756490400-1756501200@kentkirby.com
SUMMARY:Hurricane Grill & Wings - Julington Creek
DESCRIPTION:
URL:https://kentkirby.com/event/hammock-beach-resort-fantasy-pool-2/
LOCATION:Hurricane Grill & Wings – Julington Creek\, 12795 San Jose Blvd Ste 16\, Jacksonville\, FL\, 32223\, United States
ATTACH;FMTTYPE=image/jpeg:https://kentkirby.com/wp-content/uploads/2025/05/logo-2025-03-scaled.jpg
END:VEVENT
BEGIN:VEVENT
DTSTART;TZID=America/New_York:20250817T180000
DTEND;TZID=America/New_York:20250817T220000
DTSTAMP:20260423T113722
CREATED:20250701T170321Z
LAST-MODIFIED:20250813T154024Z
UID:377-1755453600-1755468000@kentkirby.com
SUMMARY:Mavi Waterfront Grill
DESCRIPTION:
URL:https://kentkirby.com/event/mavi-waterfront-grill/
LOCATION:Mavi Waterfront Grill\, 2309 Beach Boulevard\, Jacksonville Beach\, Florida\, 32250
ATTACH;FMTTYPE=image/jpeg:https://kentkirby.com/wp-content/uploads/2025/06/breakevnband.jpg
END:VEVENT
BEGIN:VEVENT
DTSTART;TZID=America/New_York:20250816T190000
DTEND;TZID=America/New_York:20250816T220000
DTSTAMP:20260423T113722
CREATED:20250701T165846Z
LAST-MODIFIED:20250812T230326Z
UID:376-1755370800-1755381600@kentkirby.com
SUMMARY:Hammock Beach Resort Gazebo
DESCRIPTION:
URL:https://kentkirby.com/event/hammock-beach-resort-gazebo/
LOCATION:Hammock Beach Resort\, 200 Ocean Crest Dr.\, Palm Coast\, FL\, 32137\, United States
ATTACH;FMTTYPE=image/jpeg:https://kentkirby.com/wp-content/uploads/2025/06/breakevnband.jpg
END:VEVENT
BEGIN:VEVENT
DTSTART;TZID=UTC:20250808T190000
DTEND;TZID=UTC:20250808T210000
DTSTAMP:20260423T113722
CREATED:20250716T011629Z
LAST-MODIFIED:20250716T011629Z
UID:391-1754679600-1754686800@kentkirby.com
SUMMARY:Hurricane Grill & Wings - San Marco
DESCRIPTION:
URL:https://kentkirby.com/event/hurricane-grill-wings-san-marco-3/
LOCATION:Hurricane Grill & Wings – San Marco\, 1615 Hendricks Ave\, Jacksonville\, FL\, 32207\, United States
ATTACH;FMTTYPE=image/jpeg:https://kentkirby.com/wp-content/uploads/2025/05/logo-2025-03-scaled.jpg
END:VEVENT
BEGIN:VEVENT
DTSTART;TZID=UTC:20250802T180000
DTEND;TZID=UTC:20250802T210000
DTSTAMP:20260423T113722
CREATED:20250701T165643Z
LAST-MODIFIED:20250701T165711Z
UID:375-1754157600-1754168400@kentkirby.com
SUMMARY:Hurricane Grill & Wings - Julington Creek
DESCRIPTION:
URL:https://kentkirby.com/event/hurricane-grill-wings-2/
LOCATION:Hurricane Grill & Wings – Julington Creek\, 12795 San Jose Blvd Ste 16\, Jacksonville\, FL\, 32223\, United States
ATTACH;FMTTYPE=image/jpeg:https://kentkirby.com/wp-content/uploads/2025/05/logo-2025-03-scaled.jpg
END:VEVENT
BEGIN:VEVENT
DTSTART;TZID=UTC:20250727T170000
DTEND;TZID=UTC:20250727T200000
DTSTAMP:20260423T113722
CREATED:20250606T152901Z
LAST-MODIFIED:20250606T152901Z
UID:331-1753635600-1753646400@kentkirby.com
SUMMARY:Hurricane Grill & Wings - San Marco
DESCRIPTION:
URL:https://kentkirby.com/event/hurricane-grill-wings-san-marco-2/
LOCATION:Hurricane Grill & Wings – San Marco\, 1615 Hendricks Ave\, Jacksonville\, FL\, 32207\, United States
ATTACH;FMTTYPE=image/jpeg:https://kentkirby.com/wp-content/uploads/2025/05/logo-2025-03-scaled.jpg
END:VEVENT
BEGIN:VEVENT
DTSTART;TZID=UTC:20250726T190000
DTEND;TZID=UTC:20250726T220000
DTSTAMP:20260423T113722
CREATED:20250607T003752Z
LAST-MODIFIED:20250607T004422Z
UID:350-1753556400-1753567200@kentkirby.com
SUMMARY:Hammock Beach Resort - Gazebo
DESCRIPTION:
URL:https://kentkirby.com/event/hammock-beach-resort-gazebo-2/
LOCATION:Hammock Beach Resort\, 200 Ocean Crest Dr.\, Palm Coast\, FL\, 32137\, United States
ATTACH;FMTTYPE=image/jpeg:https://kentkirby.com/wp-content/uploads/2025/06/breakevnband.jpg
END:VEVENT
END:VCALENDAR